BEGIN:VCALENDAR
VERSION:2.0
PRODID:-//Family Worship Center - ECPv6.15.20//NONSGML v1.0//EN
CALSCALE:GREGORIAN
METHOD:PUBLISH
X-ORIGINAL-URL:https://www.fwcva.com
X-WR-CALDESC:Events for Family Worship Center
REFRESH-INTERVAL;VALUE=DURATION:PT1H
X-Robots-Tag:noindex
X-PUBLISHED-TTL:PT1H
BEGIN:VTIMEZONE
TZID:UTC
BEGIN:STANDARD
TZOFFSETFROM:+0000
TZOFFSETTO:+0000
TZNAME:UTC
DTSTART:20250101T000000
END:STANDARD
END:VTIMEZONE
BEGIN:VEVENT
DTSTART;TZID=UTC:20260221T163000
DTEND;TZID=UTC:20260221T210000
DTSTAMP:20260421T091822
CREATED:20260129T003304Z
LAST-MODIFIED:20260129T003304Z
UID:1070-1771691400-1771707600@www.fwcva.com
SUMMARY:Ladies Night of Love & Laughter
DESCRIPTION:The ladies are heading out to the WPER Night of Love & Laughter Tour- Tickets Required\, See Tammy Cook
URL:https://www.fwcva.com/event/ladies-night-of-love-laughter/
END:VEVENT
END:VCALENDAR